BEGIN:VCALENDAR
VERSION:2.0
PRODID:-//ITAdviser - ECPv5.5.0.1//NONSGML v1.0//EN
CALSCALE:GREGORIAN
METHOD:PUBLISH
X-WR-CALNAME:ITAdviser
X-ORIGINAL-URL:https://itadviser.ro
X-WR-CALDESC:Evenimente pentru ITAdviser
BEGIN:VTIMEZONE
TZID:Europe/Bucharest
BEGIN:DAYLIGHT
TZOFFSETFROM:+0200
TZOFFSETTO:+0300
TZNAME:EEST
DTSTART:20260329T010000
END:DAYLIGHT
BEGIN:STANDARD
TZOFFSETFROM:+0300
TZOFFSETTO:+0200
TZNAME:EET
DTSTART:20261025T010000
END:STANDARD
END:VTIMEZONE
BEGIN:VEVENT
DTSTART;TZID=Europe/Bucharest:20260303T090000
DTEND;TZID=Europe/Bucharest:20260303T170000
DTSTAMP:20260421T132750
CREATED:20230807T131000Z
LAST-MODIFIED:20260205T163418Z
UID:5619-1772528400-1772557200@itadviser.ro
SUMMARY:SC900T00A Microsoft Security\, Compliance & Identity
DESCRIPTION:Acest curs introductiv oferă cunoștințe despre conceptele de securitate\, conformitate și identitate pentru soluțiile Microsoft Cloud.\nÎn cadrul acestui curs vei învăța despre conceptele de bază privind securitatea\, conformitatea și identitatea; despre conceptele și capacitățile soluțiilor Microsoft de gestionare a identității și a accesului; despre soluțiile Microsoft de securitate; despre soluțiile Microsoft de gestionare a conformității.
URL:https://itadviser.ro/events/sc-900t00a-microsoft-security-compliance-and-identity-fundamentals/
CATEGORIES:Cursuri Martie 2026
ORGANIZER;CN="ITAdviser":MAILTO:office@itadviser.ro
END:VEVENT
END:VCALENDAR