BEGIN:VCALENDAR
VERSION:2.0
PRODID:-//ITAdviser - ECPv5.5.0.1//NONSGML v1.0//EN
CALSCALE:GREGORIAN
METHOD:PUBLISH
X-WR-CALNAME:ITAdviser
X-ORIGINAL-URL:https://itadviser.ro
X-WR-CALDESC:Evenimente pentru ITAdviser
BEGIN:VTIMEZONE
TZID:Europe/Bucharest
BEGIN:DAYLIGHT
TZOFFSETFROM:+0200
TZOFFSETTO:+0300
TZNAME:EEST
DTSTART:20250330T010000
END:DAYLIGHT
BEGIN:STANDARD
TZOFFSETFROM:+0300
TZOFFSETTO:+0200
TZNAME:EET
DTSTART:20251026T010000
END:STANDARD
END:VTIMEZONE
BEGIN:VEVENT
DTSTART;TZID=Europe/Bucharest:20250428T090000
DTEND;TZID=Europe/Bucharest:20250430T170000
DTSTAMP:20260421T131119
CREATED:20241127T161215Z
LAST-MODIFIED:20241128T155003Z
UID:6011-1745830800-1746032400@itadviser.ro
SUMMARY:PL-7008 Create and extend custom copilots in Microsoft Copilot Studio
DESCRIPTION:Personalizează experiența AI cu PL-7008: Create and Extend Custom Copilots in Microsoft Copilot Studio \nDescoperă cum să creezi și să extinzi soluții personalizate cu ajutorul Microsoft Copilot Studio\, în cadrul cursului oficial PL-7008. Acest curs este conceput pentru profesioniștii IT care vor să integreze inteligența artificială în fluxurile de lucru specifice organizației\, transformând Copilot într-un asistent perfect adaptat nevoilor unice ale afacerii. \nDe ce să alegi acest curs?\n\nPersonalizare avansată: Învață să creezi Copilot-uri personalizate care să răspundă exact cerințelor echipei tale.\nPuterea AI la îndemână: Extinde capacitățile Microsoft Copilot pentru a automatiza sarcini și a îmbunătăți productivitatea.\nRelevanță practică: Dezvoltă soluții care optimizează fluxurile de lucru\, reducând timpul și efortul necesar pentru sarcini repetitive.\n\nCui se adresează?\n\nDezvoltatorilor și administratorilor IT care doresc să creeze experiențe AI personalizate în Microsoft Copilot.\nProfesioniștilor care implementează soluții Microsoft 365 și doresc să integreze funcționalități avansate de inteligență artificială.\nEchipei de business care dorește să eficientizeze procesele prin AI personalizat.\n\nCe vei învăța?\n\nSă creezi și să configurezi copilots personalizați utilizând Microsoft Copilot Studio.\nSă extinzi capacitățile Copilot pentru sarcini specifice echipei sau organizației.\nSă integrezi Copilot-uri personalizate în aplicațiile Microsoft 365 și fluxurile de lucru existente.\nSă asiguri securitatea și conformitatea soluțiilor AI implementate.\n\nDe ce este important acum?\nPersonalizarea inteligenței artificiale este cheia succesului organizațional în era digitală. Acest curs îți oferă instrumentele necesare pentru a transforma Copilot într-un partener indispensabil pentru echipa ta. \nÎnscrie-te acum la PL-7008 și valorifică la maximum potențialul Microsoft Copilot Studio alături de ITAdviser!
URL:https://itadviser.ro/events/pl-7008-create-and-extend-custom-copilots-in-microsoft-copilot-studio-2/
LOCATION:ITADVISER\, Alexandru Borneanu 2\, Bucuresti\, România
CATEGORIES:Cursuri Aprilie 2025
ORGANIZER;CN="ITAdviser":MAILTO:office@itadviser.ro
END:VEVENT
END:VCALENDAR