BEGIN:VCALENDAR
VERSION:2.0
PRODID:-//ITAdviser - ECPv5.5.0.1//NONSGML v1.0//EN
CALSCALE:GREGORIAN
METHOD:PUBLISH
X-WR-CALNAME:ITAdviser
X-ORIGINAL-URL:https://itadviser.ro
X-WR-CALDESC:Evenimente pentru ITAdviser
BEGIN:VTIMEZONE
TZID:Europe/Bucharest
BEGIN:DAYLIGHT
TZOFFSETFROM:+0200
TZOFFSETTO:+0300
TZNAME:EEST
DTSTART:20210328T010000
END:DAYLIGHT
BEGIN:STANDARD
TZOFFSETFROM:+0300
TZOFFSETTO:+0200
TZNAME:EET
DTSTART:20211031T010000
END:STANDARD
END:VTIMEZONE
BEGIN:VEVENT
DTSTART;TZID=Europe/Bucharest:20210906T093000
DTEND;TZID=Europe/Bucharest:20210910T173000
DTSTAMP:20260423T214945
CREATED:20210515T071230Z
LAST-MODIFIED:20240716T111258Z
UID:5323-1630920600-1631295000@itadviser.ro
SUMMARY:PL100T00A Microsoft Power Platform App Maker
DESCRIPTION:Acest curs vă va învăța cum să creați aplicații utilizând Microsoft Power Platform folosind tehnici low-code pentru a simplifica\, automatiza și transforma sarcinile și procesele de afaceri.
URL:https://itadviser.ro/events/pl-100t00-a-microsoft-power-platform-app-maker/
LOCATION:Online
CATEGORIES:Cursuri Septembrie 2021
ORGANIZER;CN="ITAdviser":MAILTO:office@itadviser.ro
END:VEVENT
END:VCALENDAR