BEGIN:VCALENDAR
VERSION:2.0
PRODID:-//ITAdviser - ECPv5.5.0.1//NONSGML v1.0//EN
CALSCALE:GREGORIAN
METHOD:PUBLISH
X-WR-CALNAME:ITAdviser
X-ORIGINAL-URL:https://itadviser.ro
X-WR-CALDESC:Evenimente pentru ITAdviser
BEGIN:VTIMEZONE
TZID:Europe/Bucharest
BEGIN:DAYLIGHT
TZOFFSETFROM:+0200
TZOFFSETTO:+0300
TZNAME:EEST
DTSTART:20210328T010000
END:DAYLIGHT
BEGIN:STANDARD
TZOFFSETFROM:+0300
TZOFFSETTO:+0200
TZNAME:EET
DTSTART:20211031T010000
END:STANDARD
END:VTIMEZONE
BEGIN:VEVENT
DTSTART;TZID=Europe/Bucharest:20210816T093000
DTEND;TZID=Europe/Bucharest:20210820T173000
DTSTAMP:20260423T230906
CREATED:20210515T080731Z
LAST-MODIFIED:20240716T111306Z
UID:5330-1629106200-1629480600@itadviser.ro
SUMMARY:MS050T00A SharePoint Hybrid Deployment and Migration
DESCRIPTION:Climatul afacerilor s-a schimbat. Oamenii vor să comunice fără bariere de colaborare. Întreprinderile doresc soluții care sunt atât rentabile\, cât și flexibile. Organizațiile încep să configureze medii hibride și să migreze conținutul în cloud ca soluție. În acest curs\, veți învăța cum să implementați și să configurați SharePoint Server 2019\, conceput pentru a satisface cerințele stilurilor de lucru moderne. De asemenea\, veți afla cum să configurați și să gestionați diverse aplicații de servicii SharePoint pentru a vă pregăti pentru o implementare hibridă. Apoi\, veți învăța cum să planificați și să implementați scenarii hibride SharePoint care oferă experiență utilizatorilor fără probleme. În cele din urmă\, veți învăța cum să proiectați procesul de migrare a conținutului și resursele și instrumentele disponibile de utilizat în timpul migrării conținutului către SharePoint și OneDrive în Microsoft 365.
URL:https://itadviser.ro/events/ms-050t00-a-sharepoint-hybrid-deployment-and-migration/
LOCATION:Online
CATEGORIES:Cursuri August 2021
ORGANIZER;CN="ITAdviser":MAILTO:office@itadviser.ro
END:VEVENT
END:VCALENDAR