BEGIN:VCALENDAR
VERSION:2.0
PRODID:-//ITAdviser - ECPv5.5.0.1//NONSGML v1.0//EN
CALSCALE:GREGORIAN
METHOD:PUBLISH
X-WR-CALNAME:ITAdviser
X-ORIGINAL-URL:https://itadviser.ro
X-WR-CALDESC:Evenimente pentru ITAdviser
BEGIN:VTIMEZONE
TZID:Europe/Bucharest
BEGIN:DAYLIGHT
TZOFFSETFROM:+0200
TZOFFSETTO:+0300
TZNAME:EEST
DTSTART:20210328T010000
END:DAYLIGHT
BEGIN:STANDARD
TZOFFSETFROM:+0300
TZOFFSETTO:+0200
TZNAME:EET
DTSTART:20211031T010000
END:STANDARD
END:VTIMEZONE
BEGIN:VEVENT
DTSTART;TZID=Europe/Bucharest:20211020T093000
DTEND;TZID=Europe/Bucharest:20211022T173000
DTSTAMP:20260423T151307
CREATED:20201221T155114Z
LAST-MODIFIED:20210903T152535Z
UID:5211-1634722200-1634923800@itadviser.ro
SUMMARY:MOC 20768C Developing SQL Data Models
DESCRIPTION:Pe parcursul acestui curs de 3 zile veti invata sa creati solutii BI. Veti intelege modul de implementare a modelelor de date multidimensionale și tabulare\, veti invata despre cum se creează cuburi\, dimensiuni\, măsuri și grupuri de măsuri. Acest curs vă este util si in pregatirea pentru examenul 70-768. \nProfilul publicului\nCursul se adreseaza dezvoltatorilor de solutii BI ale caror responsabilități de lucru includ sarcini precum: implementarea bazelor de date multidimensionale prin utilizarea serviciilor de analiză SQL Server si crearea de modele de date semantice tabulare pentru analiză folosind SQL Server Analysis Services. \nDupă finalizarea acestui curs\, veti sti sa:\nDescrieți componentele\, arhitectura și natura unei soluții BI\nCreați o bază de date multidimensională folosind Analysis Services\nImplementați dimensiunile într-un cub\nImplementați măsuri și grupuri de măsurare într-un cub\nUtilizați sintaxa MDX\nPersonalizați un cub\nImplementați o bază de date tabulară\nUtilizați DAX pentru a interoga un model tabular\nUtilizați extragerea datelor pentru analiza predictivă.
URL:https://itadviser.ro/events/moc-20768c-developing-sql-data-models-2/
LOCATION:Online
CATEGORIES:Cursuri Octombrie 2021
ORGANIZER;CN="ITAdviser":MAILTO:office@itadviser.ro
END:VEVENT
END:VCALENDAR