BEGIN:VCALENDAR
VERSION:2.0
PRODID:-//ITAdviser - ECPv5.5.0.1//NONSGML v1.0//EN
CALSCALE:GREGORIAN
METHOD:PUBLISH
X-WR-CALNAME:ITAdviser
X-ORIGINAL-URL:https://itadviser.ro
X-WR-CALDESC:Evenimente pentru ITAdviser
BEGIN:VTIMEZONE
TZID:Europe/Bucharest
BEGIN:DAYLIGHT
TZOFFSETFROM:+0200
TZOFFSETTO:+0300
TZNAME:EEST
DTSTART:20210328T010000
END:DAYLIGHT
BEGIN:STANDARD
TZOFFSETFROM:+0300
TZOFFSETTO:+0200
TZNAME:EET
DTSTART:20211031T010000
END:STANDARD
END:VTIMEZONE
BEGIN:VEVENT
DTSTART;TZID=Europe/Bucharest:20211018T093000
DTEND;TZID=Europe/Bucharest:20211022T173000
DTSTAMP:20260423T174103
CREATED:20200908T175158Z
LAST-MODIFIED:20210903T152146Z
UID:5112-1634549400-1634923800@itadviser.ro
SUMMARY:MOC 10997C Office 365 Administration and Troubleshooting
DESCRIPTION:Acest curs de trei zile se adresează profesioniștilor IT care au între sarcini administrarea\, configurarea\, depanarea și operarea serviciilor Office 365. Acest curs se concentrează pe crearea abilităților necesare pentru administrarea si depanarea Office 365 și a serviciilor sale cheie specifice\, cum ar fi Exchange Online\, SharePoint Online și Teams.
URL:https://itadviser.ro/events/moc-10997c-office-365-administration-and-troubleshooting/
LOCATION:Online
CATEGORIES:Cursuri Octombrie 2021
ATTACH;FMTTYPE=image/jpeg:https://itadviser.ro/wp-content/uploads/2020/05/cursuri-microsoft-365.jpg
ORGANIZER;CN="ITAdviser":MAILTO:office@itadviser.ro
END:VEVENT
END:VCALENDAR