BEGIN:VCALENDAR
VERSION:2.0
PRODID:-//ITAdviser - ECPv5.5.0.1//NONSGML v1.0//EN
CALSCALE:GREGORIAN
METHOD:PUBLISH
X-WR-CALNAME:ITAdviser
X-ORIGINAL-URL:https://itadviser.ro
X-WR-CALDESC:Evenimente pentru ITAdviser
BEGIN:VTIMEZONE
TZID:Europe/Bucharest
BEGIN:DAYLIGHT
TZOFFSETFROM:+0200
TZOFFSETTO:+0300
TZNAME:EEST
DTSTART:20210328T010000
END:DAYLIGHT
BEGIN:STANDARD
TZOFFSETFROM:+0300
TZOFFSETTO:+0200
TZNAME:EET
DTSTART:20211031T010000
END:STANDARD
END:VTIMEZONE
BEGIN:VEVENT
DTSTART;TZID=Europe/Bucharest:20211108T093000
DTEND;TZID=Europe/Bucharest:20211110T173000
DTSTAMP:20260423T105543
CREATED:20210104T191557Z
LAST-MODIFIED:20210903T154647Z
UID:5243-1636363800-1636565400@itadviser.ro
SUMMARY:MOC 10985 Introduction to SQL Databases
DESCRIPTION:In cadrul acestui curs de trei zile va veti familiariza cu conceptele fundamentale ale bazei de date\, inclusiv tipuri de baze de date\, limbaje folosite și arhitecturi specifice bazelor de date. \nProfilul publicului\nPublicul principal al acestui curs este format din persoanele care recent au preluat sarcini ce necesita cunostinte elementare de administrare a bazelor de date si/sau  persoane ale caror rol s-a extins si include cunoasterea tehnologiilor specifice bazelor de date. \nLa finalizarea cursului\nDupă finalizarea acestui curs\, veti putea sa:\n• Descrieți conceptele cheie ale bazei de date în contextul SQL Server\n• Descrieți limbile bazei de date utilizate în SQL Server\n• Descrieți tehnicile de modelare a datelor\n• Descrieți tehnici de normalizare și denormalizare\n• Descrieți tipurile și efectele relațiilor în proiectarea bazei de date\n• Descrieți efectele designului bazei de date asupra performanței\n• Descrieți obiecte de bază utilizate în mod obișnuit
URL:https://itadviser.ro/events/moc-10985-introduction-to-sql-databases-2/
LOCATION:Online
CATEGORIES:Cursuri Noiembrie 2021
ORGANIZER;CN="ITAdviser":MAILTO:office@itadviser.ro
END:VEVENT
END:VCALENDAR