BEGIN:VCALENDAR
VERSION:2.0
PRODID:-//ITAdviser - ECPv5.5.0.1//NONSGML v1.0//EN
CALSCALE:GREGORIAN
METHOD:PUBLISH
X-WR-CALNAME:ITAdviser
X-ORIGINAL-URL:https://itadviser.ro
X-WR-CALDESC:Evenimente pentru ITAdviser
BEGIN:VTIMEZONE
TZID:Europe/Bucharest
BEGIN:DAYLIGHT
TZOFFSETFROM:+0200
TZOFFSETTO:+0300
TZNAME:EEST
DTSTART:20240331T010000
END:DAYLIGHT
BEGIN:STANDARD
TZOFFSETFROM:+0300
TZOFFSETTO:+0200
TZNAME:EET
DTSTART:20241027T010000
END:STANDARD
END:VTIMEZONE
BEGIN:VEVENT
DTSTART;TZID=Europe/Bucharest:20241125T093000
DTEND;TZID=Europe/Bucharest:20241127T173000
DTSTAMP:20260422T070357
CREATED:20201221T144140Z
LAST-MODIFIED:20240806T070824Z
UID:5207-1732527000-1732728600@itadviser.ro
SUMMARY:ITA0121AD .NET Core from Medium to Advanced
DESCRIPTION:Acest curs de programare .NET Core se adreseaza celor ce au deja experiență de programare .NET și își doresc să își consolideze cunoștințele și abilitățile specifice acestui limbaj. Trainingul se adresează programatorilor C# cu experiență de cel puțin 6 luni. De asemenea\, acestia ar trebui să aibă cel puțin 6 luni de experiență cu HTML/CSS/Javascript. Acest lucru îi va ajuta să înțeleagă .NET Core exersand crearea de aplicații folosind framework-ul .NET Core. \nContinutul cursului: \nZiua 1 \n.NET Core\, .NET Standard\, .NET Framework\nNoțiuni de baza C #\nNoutati si notiuni avansate C #\nIntroducere in ASP .NET Core \nZiua 2 \n.NET Core WEBAPI / MVC/ Blazor\nBackend .NET Core – BL\, DAL\, Securitate\, teste\nEF – consolă\, ASP.NET Scaffolding\nAnatomia funcțională a ASP.NET Core\nEcosistem\n.NET Core MVC / WebAPI – demo și exerciții \nZiua 3 \nASP.NET Core – ultima versiune\, noutati\nGeneratoare de cod Roslyn\nEF Core – ultima versiune\nExerciții practice cu WebAPI / MVC
URL:https://itadviser.ro/events/ita0918ad-asp-net-core-from-basics-to-advance/
LOCATION:ITADVISER\, Alexandru Borneanu 2\, Bucuresti\, România
CATEGORIES:Cursuri Noiembrie 2024
ORGANIZER;CN="ITAdviser":MAILTO:office@itadviser.ro
END:VEVENT
END:VCALENDAR