BEGIN:VCALENDAR
VERSION:2.0
PRODID:-//ITAdviser - ECPv5.5.0.1//NONSGML v1.0//EN
CALSCALE:GREGORIAN
METHOD:PUBLISH
X-WR-CALNAME:ITAdviser
X-ORIGINAL-URL:https://itadviser.ro
X-WR-CALDESC:Evenimente pentru ITAdviser
BEGIN:VTIMEZONE
TZID:Europe/Bucharest
BEGIN:DAYLIGHT
TZOFFSETFROM:+0200
TZOFFSETTO:+0300
TZNAME:EEST
DTSTART:20240331T010000
END:DAYLIGHT
BEGIN:STANDARD
TZOFFSETFROM:+0300
TZOFFSETTO:+0200
TZNAME:EET
DTSTART:20241027T010000
END:STANDARD
END:VTIMEZONE
BEGIN:VEVENT
DTSTART;TZID=Europe/Bucharest:20241128T080000
DTEND;TZID=Europe/Bucharest:20241129T170000
DTSTAMP:20260422T054248
CREATED:20240806T074123Z
LAST-MODIFIED:20240806T101913Z
UID:5794-1732780800-1732899600@itadviser.ro
SUMMARY:ITA0824JP Java Persistance API
DESCRIPTION:Scopul principal al acestui curs este de a oferi cunoștințe aprofundate și experiență practică cu Java Persistence API (JPA)\, permițând participanților să gestioneze eficient datele relaționale în aplicațiile Java\, cu un accent deosebit pe abordarea problemelor comune\, cum ar fi problema Hibernate N+1\, problema dublei cheltuieli și vulnerabilități de tip SQL injection. \nLa sfârșitul acestui program\, participanții vor putea: \n\nÎnțelege fundamentele JPA și rolul său în aplicațiile Java.\nEfectua operațiuni CRUD de bază și avansate folosind JPA.\nIdentifica și rezolva problemele comune ale JPA\, cum ar fi problema Hibernate N+1 și problema dublei cheltuieli.\nImplementa cele mai bune practici de securitate pentru a preveni SQL injection.\nOptimizarea JPA pentru performanță și scalabilitate.\nAplica JPA în scenarii reale\, cu accent pe industria financiar-bancară.\n\nContinutul cursului: \nZiua 1: Introducere în JPA si Concepte Avansate JPA \n\nPrezentare generală a JPA și ORM\nConfigurarea JPA într-un proiect Java\nOperațiuni CRUD de bază\nJPQL și interogări native\nRelațiile dintre entități și mapări\nCache și optimizarea performanței\n\nZiua 2: Abordarea Problemelor Comune\, Aplicare Practică și Scenarii Industriale \n\nProblema Hibernate N+1: Identificare și soluții\nProblema dublei cheltuieli: Strategii și implementări\nSQL injection: Prevenire și cele mai bune practici\nManagementul tranzacțiilor\nStudii de caz și simulări de afaceri specifice industriei financiar-bancare\nLucru pe proiect și sesiuni de întrebări și răspunsuri\n\n Raportul dintre Conținutul Teoretic și Practic \n\nConținut teoretic: 40%\nExerciții practice și activități hands-on: 60%\n\nMetoda/Metodologia de Implementare \n\nPrelegeri Interactive: Conceptele teoretice vor fi explicate în detaliu cu exemple reale.\nSesiuni de Codare Live: Participanții vor urmări împreună cu instructorul pentru a implementa funcționalitățile JPA.\nStudii de Caz Reale: Exemple și scenarii practice vor fi discutate\, cu accent deosebit pe industria financiar-bancară.\nExerciții de Grup: Participanții vor lua parte la activități de grup pentru a rezolva problemele comune ale JPA.\n\nCertificat care atesta participarea in cadrul cursului: ITADVISER Certificate of Achievement.
URL:https://itadviser.ro/events/ita0824jp-java-persistance-api/
LOCATION:ITADVISER\, Alexandru Borneanu 2\, Bucuresti\, România
CATEGORIES:Cursuri Noiembrie 2024
ORGANIZER;CN="ITAdviser":MAILTO:office@itadviser.ro
END:VEVENT
END:VCALENDAR