BEGIN:VCALENDAR
VERSION:2.0
PRODID:-//ITAdviser - ECPv5.5.0.1//NONSGML v1.0//EN
CALSCALE:GREGORIAN
METHOD:PUBLISH
X-WR-CALNAME:ITAdviser
X-ORIGINAL-URL:https://itadviser.ro
X-WR-CALDESC:Evenimente pentru ITAdviser
BEGIN:VTIMEZONE
TZID:Europe/Bucharest
BEGIN:DAYLIGHT
TZOFFSETFROM:+0200
TZOFFSETTO:+0300
TZNAME:EEST
DTSTART:20260329T010000
END:DAYLIGHT
BEGIN:STANDARD
TZOFFSETFROM:+0300
TZOFFSETTO:+0200
TZNAME:EET
DTSTART:20261025T010000
END:STANDARD
END:VTIMEZONE
BEGIN:VEVENT
DTSTART;TZID=Europe/Bucharest:20260323T090000
DTEND;TZID=Europe/Bucharest:20260327T170000
DTSTAMP:20260421T222900
CREATED:20240716T110504Z
LAST-MODIFIED:20260205T170919Z
UID:5706-1774256400-1774630800@itadviser.ro
SUMMARY:ITA0724CS CompTIA Security+
DESCRIPTION:CompTIA Security+ reprezintă cel mai nou și cel mai bun domeniu de securitate cibernetică\, acoperind cele mai solicitate abilități legate de amenințările actuale\, automatizare\, Zero Trust\, IoT\, risc și multe altele.\nAcest curs vă ajută să dobândiți concepte generale de securitate\, deoarece include terminologia și conceptele cheie de securitate cibernetică pentru a oferi o bază pentru controalele de securitate. Totodată\, se concentrează pe răspunsul la amenințări obișnuite\, atacuri cibernetice\, vulnerabilități și incidente de securitate și tehnici de atenuare adecvate pentru monitorizarea și securizarea mediilor hibride. Sunt incluse și noțiuni ale arhitecturii de securitate\, principii de securizare a infrastructurii întreprinderii și strategii de protecție a datelor. În plus\, puteți învăța operațiuni de securitate\, cum ar fi aplicarea și îmbunătățirea tehnicilor de gestionare a securității și vulnerabilităților\, precum și implicațiile de securitate ale gestionării adecvate a hardware-ului\, software-ului și datelor. Managementul și supravegherea programului de securitate este actualizat pentru a reflecta mai bine abilitățile de raportare și comunicare necesare pentru funcțiile Security+ legate de guvernanță\, managementul riscurilor\, conformitate\, evaluare și conștientizarea securității.
URL:https://itadviser.ro/events/ita0724cs-comptia-security/
LOCATION:ITADVISER\, Alexandru Borneanu 2\, Bucuresti\, România
CATEGORIES:Cursuri Martie 2026
ORGANIZER;CN="ITAdviser":MAILTO:office@itadviser.ro
END:VEVENT
END:VCALENDAR