BEGIN:VCALENDAR
VERSION:2.0
PRODID:-//ITAdviser - ECPv5.5.0.1//NONSGML v1.0//EN
CALSCALE:GREGORIAN
METHOD:PUBLISH
X-WR-CALNAME:ITAdviser
X-ORIGINAL-URL:https://itadviser.ro
X-WR-CALDESC:Evenimente pentru ITAdviser
BEGIN:VTIMEZONE
TZID:Europe/Bucharest
BEGIN:DAYLIGHT
TZOFFSETFROM:+0200
TZOFFSETTO:+0300
TZNAME:EEST
DTSTART:20220327T010000
END:DAYLIGHT
BEGIN:STANDARD
TZOFFSETFROM:+0300
TZOFFSETTO:+0200
TZNAME:EET
DTSTART:20221030T010000
END:STANDARD
END:VTIMEZONE
BEGIN:VEVENT
DTSTART;TZID=Europe/Bucharest:20220404T093000
DTEND;TZID=Europe/Bucharest:20220407T173000
DTSTAMP:20260423T073357
CREATED:20210515T065531Z
LAST-MODIFIED:20240716T111202Z
UID:5320-1649064600-1649352600@itadviser.ro
SUMMARY:DA100T00A Analyzing Data with Power BI
DESCRIPTION:Acest curs va discuta diferitele metode și cele mai bune practici care sunt în conformitate cu cerințele tehnice și de afaceri pentru modelarea\, vizualizarea și analiza datelor cu Power BI. Cursul va arăta\, de asemenea\, cum să accesați și să prelucrați datele dintr-o serie de surse de date\, inclusiv date relaționale și non-relaționale. Acest curs va explora\, de asemenea\, cum să implementați standarde și politici de securitate adecvate în întregul spectru Power BI\, inclusiv seturi de date și grupuri. Cursul va discuta\, de asemenea\, despre cum să gestionați și să implementați rapoarte și tablouri de bord pentru distribuire de conținut. În cele din urmă\, acest curs va arăta cum să creați rapoarte paginate în cadrul serviciului Power BI și să le publicați într-un spațiu de lucru pentru includere în Power BI.
URL:https://itadviser.ro/events/da-100t00-a-analyzing-data-with-power-bi/
LOCATION:Online
CATEGORIES:Cursuri Aprilie 2022
ORGANIZER;CN="ITAdviser":MAILTO:office@itadviser.ro
END:VEVENT
END:VCALENDAR