BEGIN:VCALENDAR
VERSION:2.0
PRODID:-//ITAdviser - ECPv5.5.0.1//NONSGML v1.0//EN
CALSCALE:GREGORIAN
METHOD:PUBLISH
X-WR-CALNAME:ITAdviser
X-ORIGINAL-URL:https://itadviser.ro
X-WR-CALDESC:Evenimente pentru ITAdviser
BEGIN:VTIMEZONE
TZID:Europe/Bucharest
BEGIN:DAYLIGHT
TZOFFSETFROM:+0200
TZOFFSETTO:+0300
TZNAME:EEST
DTSTART:20260329T010000
END:DAYLIGHT
BEGIN:STANDARD
TZOFFSETFROM:+0300
TZOFFSETTO:+0200
TZNAME:EET
DTSTART:20261025T010000
END:STANDARD
END:VTIMEZONE
BEGIN:VEVENT
DTSTART;TZID=Europe/Bucharest:20260525T090000
DTEND;TZID=Europe/Bucharest:20260527T170000
DTSTAMP:20260421T115315
CREATED:20260205T171321Z
LAST-MODIFIED:20260205T171321Z
UID:6559-1779699600-1779901200@itadviser.ro
SUMMARY:CTIA-CySAP CompTIA Cybersecurity Analyst (CySA+)
DESCRIPTION:CTIA-CySAP – CompTIA Cybersecurity Analyst (CySA+) este un curs avansat\, orientat practic\, dedicat specialistilor IT si cybersecurity care doresc sa isi dezvolte competentele de detectie\, analiza si raspuns la incidente de securitate\, folosind metode si instrumente moderne de tip security analytics. \nCursul se concentreaza pe rolul analistului de securitate in centre SOC si in echipele de aparare cibernetica\, punand accent pe corelarea evenimentelor\, investigarea alertelor\, threat hunting si raspuns operational la incidente. \nCe acopera cursul\n\n\nmetode si tehnici de security analytics si threat intelligence \n\n\ncolectarea si corelarea logurilor si alertelor din surse multiple \n\n\nutilizarea instrumentelor SIEM si a platformelor de monitorizare \n\n\ndetectarea comportamentelor anormale si a indicatorilor de compromitere (IOC) \n\n\ninvestigarea si prioritizarea incidentelor de securitate \n\n\nraspuns la incidente si masuri de remediere \n\n\nvulnerabilitati\, managementul riscului si recomandari de mitigare \n\n\nautomatizare si imbunatatirea proceselor de detectie si raspuns \n\n\nmonitorizarea continua a securitatii in infrastructuri on-prem si cloud \n\n\nCui se adreseaza\n\n\nanalisti SOC \n\n\nadministratori de securitate si retea \n\n\nspecialisti IT cu responsabilitati de securitate \n\n\nincident responders \n\n\nprofesionisti care detin deja cunostinte de baza in cybersecurity si doresc un nivel urmator\, orientat pe analiza si operatiuni \n\n\nBeneficii\n\n\nabordare practica\, bazata pe scenarii reale de atac si detectie \n\n\naliniere cu cerintele rolurilor moderne de Cybersecurity Analyst \n\n\npregatire directa pentru certificarea CompTIA CySA+ \n\n\ncompetente aplicabile imediat in operatiuni SOC si echipe de securitate
URL:https://itadviser.ro/events/ctia-cysap-comptia-cybersecurity-analyst-cysa/
LOCATION:Online
CATEGORIES:Cursuri Mai 2026
ORGANIZER;CN="ITAdviser":MAILTO:office@itadviser.ro
END:VEVENT
END:VCALENDAR