BEGIN:VCALENDAR
VERSION:2.0
PRODID:-//ITAdviser - ECPv5.5.0.1//NONSGML v1.0//EN
CALSCALE:GREGORIAN
METHOD:PUBLISH
X-WR-CALNAME:ITAdviser
X-ORIGINAL-URL:https://itadviser.ro
X-WR-CALDESC:Evenimente pentru ITAdviser
BEGIN:VTIMEZONE
TZID:Europe/Bucharest
BEGIN:DAYLIGHT
TZOFFSETFROM:+0200
TZOFFSETTO:+0300
TZNAME:EEST
DTSTART:20260329T010000
END:DAYLIGHT
BEGIN:STANDARD
TZOFFSETFROM:+0300
TZOFFSETTO:+0200
TZNAME:EET
DTSTART:20261025T010000
END:STANDARD
END:VTIMEZONE
BEGIN:VEVENT
DTSTART;TZID=Europe/Bucharest:20260427T090000
DTEND;TZID=Europe/Bucharest:20260429T170000
DTSTAMP:20260421T115153
CREATED:20250526T090233Z
LAST-MODIFIED:20260205T170633Z
UID:6146-1777280400-1777482000@itadviser.ro
SUMMARY:AZ700T00A Designing and Implementing Microsoft Azure Networking Solutions
DESCRIPTION:Acest curs oficial Microsoft de 3 zile\,  îi pregătește pe profesioniștii IT să proiecteze și să implementeze soluții de rețea sigure\, scalabile și de înaltă performanță în Microsoft Azure. Participanții vor învăța cum să configureze conectivitatea între rețele locale și Azure\, să optimizeze performanța aplicațiilor și să protejeze infrastructura cloud folosind cele mai bune practici Azure. \nTematici principale:\n\n\nProiectarea și implementarea conectivității hibride (VPN\, ExpressRoute) \n\n\nConfigurarea rețelelor virtuale\, subrețelelor și rutării personalizate \n\n\nImplementarea serviciilor de echilibrare a traficului (Load Balancer\, Application Gateway) \n\n\nProtejarea rețelelor cu Azure Firewall\, NSG și Azure DDoS Protection \n\n\nMonitorizarea și depanarea rețelelor Azure \n\n\nIntegrarea cu rețele on-premises și soluții multi-cloud \n\n\nPublic țintă:\nIngineri de rețea\, administratori cloud\, arhitecți de soluții și profesioniști care proiectează și implementează soluții de rețelistică în Microsoft Azure. \nCertificare asociată: Microsoft Certified: Azure Network Engineer Associate
URL:https://itadviser.ro/events/az700t00a-designing-and-implementing-microsoft-azure-networking-solutions/
LOCATION:ITADVISER\, Alexandru Borneanu 2\, Bucuresti\, România
CATEGORIES:Cursuri Aprilie 2026
ORGANIZER;CN="ITAdviser":MAILTO:office@itadviser.ro
END:VEVENT
END:VCALENDAR