BEGIN:VCALENDAR
VERSION:2.0
PRODID:-//ITAdviser - ECPv5.5.0.1//NONSGML v1.0//EN
CALSCALE:GREGORIAN
METHOD:PUBLISH
X-WR-CALNAME:ITAdviser
X-ORIGINAL-URL:https://itadviser.ro
X-WR-CALDESC:Evenimente pentru ITAdviser
BEGIN:VTIMEZONE
TZID:Europe/Bucharest
BEGIN:DAYLIGHT
TZOFFSETFROM:+0200
TZOFFSETTO:+0300
TZNAME:EEST
DTSTART:20260329T010000
END:DAYLIGHT
BEGIN:STANDARD
TZOFFSETFROM:+0300
TZOFFSETTO:+0200
TZNAME:EET
DTSTART:20261025T010000
END:STANDARD
END:VTIMEZONE
BEGIN:VEVENT
DTSTART;TZID=Europe/Bucharest:20260309T090000
DTEND;TZID=Europe/Bucharest:20260312T170000
DTSTAMP:20260421T163552
CREATED:20240105T102752Z
LAST-MODIFIED:20260205T164319Z
UID:5655-1773046800-1773334800@itadviser.ro
SUMMARY:AZ801T00A Configuring Windows Server Hybrid Advanced Services
DESCRIPTION:În acest curs veți învăța să implementați\, să împachetați\, să securizați\, să actualizați și să configurați  Windows Server folosind tehnologii on-premise\, hibride și cloud.\nUtilizați instrumente și tehnologii administrative\, cum ar fi Windows Admin Center\, PowerShell\, Azure Arc\, Azure Policy\, Azure Monitor\, Azure Automation Update Management\, Microsoft Defender pentru Cloud și administrarea mașinii virtuale (VM) IaaS.
URL:https://itadviser.ro/events/az-801t00a-configuring-windows-server-hybrid-advanced-services/
CATEGORIES:Cursuri Martie 2026
ORGANIZER;CN="ITAdviser":MAILTO:office@itadviser.ro
END:VEVENT
END:VCALENDAR