BEGIN:VCALENDAR
VERSION:2.0
PRODID:-//ITAdviser - ECPv5.5.0.1//NONSGML v1.0//EN
CALSCALE:GREGORIAN
METHOD:PUBLISH
X-WR-CALNAME:ITAdviser
X-ORIGINAL-URL:https://itadviser.ro
X-WR-CALDESC:Evenimente pentru ITAdviser
BEGIN:VTIMEZONE
TZID:Europe/Bucharest
BEGIN:DAYLIGHT
TZOFFSETFROM:+0200
TZOFFSETTO:+0300
TZNAME:EEST
DTSTART:20220327T010000
END:DAYLIGHT
BEGIN:STANDARD
TZOFFSETFROM:+0300
TZOFFSETTO:+0200
TZNAME:EET
DTSTART:20221030T010000
END:STANDARD
END:VTIMEZONE
BEGIN:VEVENT
DTSTART;TZID=Europe/Bucharest:20220509T093000
DTEND;TZID=Europe/Bucharest:20220513T173000
DTSTAMP:20260423T095240
CREATED:20220210T095214Z
LAST-MODIFIED:20240716T111140Z
UID:5513-1652088600-1652463000@itadviser.ro
SUMMARY:AZ400T00A Designing and Implementing Microsoft DevOps solutions
DESCRIPTION:Acest curs oferă cunoștințele și abilitățile necesare pentru proiectarea și implementarea proceselor și practicilor DevOps. Elevii vor învăța cum să planifice pentru DevOps\, să folosească controlul sursei\, să scaleze Git pentru o întreprindere\, să consolideze artefacte\, să conceapă o strategie de gestionare a dependenței\, să gestioneze secretele\, să implementeze integrarea continuă\, să implementeze o strategie de construire a containerului\, să proiecteze o strategie de lansare\, să configureze gestionarea fluxului de lucru\, implementarea unui model de implementare și optimizarea mecanismelor de feedback. \nProfilul participantilor \nParticipantii sunt interesați să proiecteze și să implementeze procese DevOps si/sau să promoveze examenul de certificare Microsoft Azure DevOps Solutions. \n 
URL:https://itadviser.ro/events/az-400t00-a-designing-and-implementing-microsoft-devops-solutions/
LOCATION:Online
CATEGORIES:Cursuri Mai 2022
ORGANIZER;CN="ITAdviser":MAILTO:office@itadviser.ro
END:VEVENT
END:VCALENDAR