BEGIN:VCALENDAR
VERSION:2.0
PRODID:-//ITAdviser - ECPv5.5.0.1//NONSGML v1.0//EN
CALSCALE:GREGORIAN
METHOD:PUBLISH
X-WR-CALNAME:ITAdviser
X-ORIGINAL-URL:https://itadviser.ro
X-WR-CALDESC:Evenimente pentru ITAdviser
BEGIN:VTIMEZONE
TZID:Europe/Bucharest
BEGIN:DAYLIGHT
TZOFFSETFROM:+0200
TZOFFSETTO:+0300
TZNAME:EEST
DTSTART:20220327T010000
END:DAYLIGHT
BEGIN:STANDARD
TZOFFSETFROM:+0300
TZOFFSETTO:+0200
TZNAME:EET
DTSTART:20221030T010000
END:STANDARD
END:VTIMEZONE
BEGIN:VEVENT
DTSTART;TZID=Europe/Bucharest:20220125T093000
DTEND;TZID=Europe/Bucharest:20220128T173000
DTSTAMP:20260423T083518
CREATED:20210903T160306Z
LAST-MODIFIED:20240716T111231Z
UID:5418-1643103000-1643391000@itadviser.ro
SUMMARY:AZ304T00A Microsoft Azure Architect Design
DESCRIPTION:Acest curs ii învață pe arhitectii de solutii IT cum să traducă cerințele afacerii în soluții sigure\, scalabile și fiabile. Lecțiile includ notiuni de proiectare legate de jurnalizare\, analiza costurilor\, autentificare și autorizare\, guvernanță\, securitate\, stocare\, disponibilitate ridicată și migrare.
URL:https://itadviser.ro/events/az-304t00-a-microsoft-azure-architect-design/
LOCATION:Online
CATEGORIES:Cursuri Ianuarie 2022
ORGANIZER;CN="ITAdviser":MAILTO:office@itadviser.ro
END:VEVENT
END:VCALENDAR