BEGIN:VCALENDAR
VERSION:2.0
PRODID:-//ITAdviser - ECPv5.5.0.1//NONSGML v1.0//EN
CALSCALE:GREGORIAN
METHOD:PUBLISH
X-WR-CALNAME:ITAdviser
X-ORIGINAL-URL:https://itadviser.ro
X-WR-CALDESC:Evenimente pentru ITAdviser
BEGIN:VTIMEZONE
TZID:Europe/Bucharest
BEGIN:DAYLIGHT
TZOFFSETFROM:+0200
TZOFFSETTO:+0300
TZNAME:EEST
DTSTART:20260329T010000
END:DAYLIGHT
BEGIN:STANDARD
TZOFFSETFROM:+0300
TZOFFSETTO:+0200
TZNAME:EET
DTSTART:20261025T010000
END:STANDARD
END:VTIMEZONE
BEGIN:VEVENT
DTSTART;TZID=Europe/Bucharest:20260330T090000
DTEND;TZID=Europe/Bucharest:20260403T170000
DTSTAMP:20260421T235556
CREATED:20230420T093536Z
LAST-MODIFIED:20260303T124528Z
UID:5597-1774861200-1775235600@itadviser.ro
SUMMARY:AZ-104T00 Microsoft Azure Administrator
DESCRIPTION:Devino expert în administrarea Azure cu AZ-104T00: Microsoft Azure Administrator \nEști gata să gestionezi și să optimizezi medii cloud complexe? Cursul oficial Microsoft AZ-104T00: Azure Administrator este conceput pentru profesioniștii IT care doresc să dobândească abilități avansate în administrarea resurselor Azure\, asigurând performanță\, securitate și disponibilitate ridicată pentru organizațiile lor. \nDe ce să alegi acest curs?\n\nAdministrare practică: Învață să configurezi\, monitorizezi și gestionezi eficient resursele cloud pe platforma Azure.\nCertificare recunoscută global: Pregătește-te să obții certificarea Microsoft Certified: Azure Administrator Associate.\nRelevanță imediată: Scenariile practice incluse te ajută să aplici rapid cunoștințele dobândite în mediul tău de lucru.\n\nCui se adresează?\n\nAdministratorilor de sisteme care doresc să migreze sau să gestioneze infrastructura pe Microsoft Azure.\nProfesioniștilor IT care administrează rețele\, stocare sau calcul în medii cloud.\nOricărei persoane care dorește să-și dezvolte cariera în administrarea cloud.\n\nCe vei învăța?\n\nSă implementezi și să gestionezi resursele de stocare și calcul în Azure.\nSă configurezi rețele virtuale și să implementezi soluții de securitate și identitate.\nSă monitorizezi și să optimizezi performanța și costurile în Azure.\nSă gestionezi back-up-uri\, recuperări și soluții de continuitate a afacerii.\n\nDe ce este esențial acest curs în 2026?\nPe măsură ce tot mai multe companii adoptă soluții cloud\, abilitățile de administrare Azure sunt indispensabile. Acest curs te poziționează ca un profesionist esențial în era transformării digitale.
URL:https://itadviser.ro/events/az-104t00-microsoft-azure-administrator/
LOCATION:ITADVISER\, Alexandru Borneanu 2\, Bucuresti\, România
CATEGORIES:Cursuri Aprilie 2026,Cursuri Martie 2026
ORGANIZER;CN="ITAdviser":MAILTO:office@itadviser.ro
END:VEVENT
END:VCALENDAR