BEGIN:VCALENDAR
VERSION:2.0
PRODID:-//ITAdviser - ECPv5.5.0.1//NONSGML v1.0//EN
CALSCALE:GREGORIAN
METHOD:PUBLISH
X-WR-CALNAME:ITAdviser
X-ORIGINAL-URL:https://itadviser.ro
X-WR-CALDESC:Evenimente pentru ITAdviser
BEGIN:VTIMEZONE
TZID:Europe/Bucharest
BEGIN:DAYLIGHT
TZOFFSETFROM:+0200
TZOFFSETTO:+0300
TZNAME:EEST
DTSTART:20260329T010000
END:DAYLIGHT
BEGIN:STANDARD
TZOFFSETFROM:+0300
TZOFFSETTO:+0200
TZNAME:EET
DTSTART:20261025T010000
END:STANDARD
END:VTIMEZONE
BEGIN:VEVENT
DTSTART;TZID=Europe/Bucharest:20260305T000000
DTEND;TZID=Europe/Bucharest:20260305T000000
DTSTAMP:20260421T150514
CREATED:20260205T164139Z
LAST-MODIFIED:20260205T164139Z
UID:6041-1772668800-1772668800@itadviser.ro
SUMMARY:AI900T00 Microsoft Azure AI Fundamentals
DESCRIPTION:Intră în lumea inteligenței artificiale cu AI-900T00: Microsoft Azure AI Fundamentals \nDescoperă cum inteligența artificială transformă lumea și cum poți valorifica puterea Azure AI în afacerea ta cu cursul oficial AI-900T00: Microsoft Azure AI Fundamentals. Acest curs este creat pentru cei care doresc să înțeleagă conceptele de bază ale AI și serviciile Azure\, fără a necesita cunoștințe tehnice avansate. \nDe ce să alegi acest curs?\n\nUșor de înțeles: Ideal pentru începători care doresc să învețe fundamentele AI și să descopere potențialul Microsoft Azure.\nCertificare valoroasă: Pregătește-te pentru certificarea Microsoft Certified: Azure AI Fundamentals\, un pas important în cariera ta.\nAplicații practice: Înțelege utilizarea reală a AI prin scenarii și soluții bazate pe Azure.\n\nCui se adresează?\n\nProfesioniștilor din orice domeniu care vor să înțeleagă bazele AI și să le aplice în activitatea lor.\nManagerilor și liderilor care iau decizii strategice legate de implementarea AI.\nOricărui profesionist IT sau non-IT interesat să înceapă o carieră în domeniul AI.\n\nCe vei învăța?\n\nFundamentele inteligenței artificiale\, învățării automate și procesării limbajului natural.\nServiciile Azure AI\, inclusiv Cognitive Services\, Machine Learning și Bot Services.\nCum să identifici soluțiile AI potrivite pentru nevoile organizației tale.\n\nDe ce este esențial acest curs în 2025?\nAI continuă să redefinească modul în care lucrează companiile\, iar înțelegerea bazelor inteligenței artificiale și utilizarea serviciilor cloud precum Azure AI devin esențiale pentru a rămâne competitiv.
URL:https://itadviser.ro/events/ai900t00-microsoft-azure-ai-fundamentals/
LOCATION:Online
CATEGORIES:Cursuri Martie 2026
ORGANIZER;CN="ITAdviser":MAILTO:office@itadviser.ro
END:VEVENT
END:VCALENDAR