BEGIN:VCALENDAR
VERSION:2.0
PRODID:-//ITAdviser - ECPv5.5.0.1//NONSGML v1.0//EN
CALSCALE:GREGORIAN
METHOD:PUBLISH
X-WR-CALNAME:ITAdviser
X-ORIGINAL-URL:https://itadviser.ro
X-WR-CALDESC:Evenimente pentru ITAdviser
BEGIN:VTIMEZONE
TZID:Europe/Bucharest
BEGIN:DAYLIGHT
TZOFFSETFROM:+0200
TZOFFSETTO:+0300
TZNAME:EEST
DTSTART:20260329T010000
END:DAYLIGHT
BEGIN:STANDARD
TZOFFSETFROM:+0300
TZOFFSETTO:+0200
TZNAME:EET
DTSTART:20261025T010000
END:STANDARD
END:VTIMEZONE
BEGIN:VEVENT
DTSTART;TZID=Europe/Bucharest:20260316T090000
DTEND;TZID=Europe/Bucharest:20260320T170000
DTSTAMP:20260421T194207
CREATED:20230807T130614Z
LAST-MODIFIED:20260205T164445Z
UID:5617-1773651600-1774026000@itadviser.ro
SUMMARY:55371AC Windows Server Administration
DESCRIPTION:Cursul 55371AC este echivalentul cursului WS-011 – Windows Server Administration. Acest curs de cinci zile condus de un instructor este conceput în primul rând pentru profesioniștii IT care au o anumită experiență cu Windows Server. Este conceput pentru profesioniștii care vor fi responsabili pentru gestionarea identității\, rețelei\, stocării și calculului utilizând Windows Server și care trebuie să înțeleagă scenariile\, cerințele și opțiunile care sunt disponibile și aplicabile pentru Windows Server. Cursul îi învață profesioniștilor IT abilitățile fundamentale de administrare necesare pentru implementarea și sprijinirea Windows Server în majoritatea organizațiilor.
URL:https://itadviser.ro/events/55371ac-windows-server-administration-2/
LOCATION:ITADVISER\, Alexandru Borneanu 2\, Bucuresti\, România
CATEGORIES:Cursuri Martie 2026
ORGANIZER;CN="ITAdviser":MAILTO:office@itadviser.ro
END:VEVENT
END:VCALENDAR