BEGIN:VCALENDAR
VERSION:2.0
PRODID:-//ITAdviser - ECPv5.5.0.1//NONSGML v1.0//EN
CALSCALE:GREGORIAN
METHOD:PUBLISH
X-WR-CALNAME:ITAdviser
X-ORIGINAL-URL:https://itadviser.ro
X-WR-CALDESC:Evenimente pentru ITAdviser
BEGIN:VTIMEZONE
TZID:Europe/Bucharest
BEGIN:DAYLIGHT
TZOFFSETFROM:+0200
TZOFFSETTO:+0300
TZNAME:EEST
DTSTART:20220327T010000
END:DAYLIGHT
BEGIN:STANDARD
TZOFFSETFROM:+0300
TZOFFSETTO:+0200
TZNAME:EET
DTSTART:20221030T010000
END:STANDARD
END:VTIMEZONE
BEGIN:VEVENT
DTSTART;TZID=Europe/Bucharest:20220214T093000
DTEND;TZID=Europe/Bucharest:20220216T173000
DTSTAMP:20260423T072956
CREATED:20220113T172249Z
LAST-MODIFIED:20220113T172249Z
UID:5474-1644831000-1645032600@itadviser.ro
SUMMARY:55301A Mastering Microsoft Project 2019
DESCRIPTION:Acest curs se adresează persoanelor care sunt interesate să își extindă baza de cunoștințe și abilitățile tehnice despre Microsoft Project. Cursul începe cu conceptele de bază și îi conduce pe studenți prin toate funcțiile de care vor avea nevoie pentru a planifica și gestiona un proiect de dimensiuni mici până la mijlocii\, inclusiv modul de nivelare a resurselor și captarea atât a costurilor\, cât și a progresului programat.
URL:https://itadviser.ro/events/55301a-mastering-microsoft-project-2019/
LOCATION:Online
CATEGORIES:Cursuri Februarie 2022
ORGANIZER;CN="ITAdviser":MAILTO:office@itadviser.ro
END:VEVENT
END:VCALENDAR