BEGIN:VCALENDAR
VERSION:2.0
PRODID:-//ITAdviser - ECPv5.5.0.1//NONSGML v1.0//EN
CALSCALE:GREGORIAN
METHOD:PUBLISH
X-WR-CALNAME:ITAdviser
X-ORIGINAL-URL:https://itadviser.ro
X-WR-CALDESC:Evenimente pentru ITAdviser
BEGIN:VTIMEZONE
TZID:Europe/Bucharest
BEGIN:DAYLIGHT
TZOFFSETFROM:+0200
TZOFFSETTO:+0300
TZNAME:EEST
DTSTART:20220327T010000
END:DAYLIGHT
BEGIN:STANDARD
TZOFFSETFROM:+0300
TZOFFSETTO:+0200
TZNAME:EET
DTSTART:20221030T010000
END:STANDARD
END:VTIMEZONE
BEGIN:VEVENT
DTSTART;TZID=Europe/Bucharest:20220725T090000
DTEND;TZID=Europe/Bucharest:20220728T170000
DTSTAMP:20260423T110304
CREATED:20220713T084548Z
LAST-MODIFIED:20240822T100949Z
UID:5526-1658739600-1659027600@itadviser.ro
SUMMARY:55264A Introduction to Programming Using Python
DESCRIPTION:Acest curs este destinat studenților care doresc să învețe cum să scrie cod Python. Participanții vor învăța cum să scrie\, să depaneze\, să întrețină și să documenteze codul Python. \nCerințe preliminare \nÎnainte de a urma acest curs\, studenții trebuie să aibă: \n\nExperiență în efectuarea de operațiuni de linie de comandă pe computere Windows\, Linux sau Mac\nExperiență de șase luni în scrierea de cod în orice limbaj de programare (recomandat)\nExperiența anterioară în programare nu este necesară\, dar recomandată.\n\nSubiecte \n\nEfectuați operațiuni utilizând tipuri de date și operatori\nControlul fluxului cu decizii și bucle\nEfectuați operațiuni de intrare și ieșire\nDocument și cod de structură\nEfectuați depanarea și gestionarea erorilor\nEfectuați operațiuni folosind module și instrumente
URL:https://itadviser.ro/events/55264a-introduction-to-programming-using-phyton/
LOCATION:Online
CATEGORIES:Cursuri Iulie 2022
ORGANIZER;CN="ITAdviser":MAILTO:office@itadviser.ro
END:VEVENT
END:VCALENDAR