BEGIN:VCALENDAR
VERSION:2.0
PRODID:-//ITAdviser - ECPv5.5.0.1//NONSGML v1.0//EN
CALSCALE:GREGORIAN
METHOD:PUBLISH
X-WR-CALNAME:ITAdviser
X-ORIGINAL-URL:https://itadviser.ro
X-WR-CALDESC:Evenimente pentru ITAdviser
BEGIN:VTIMEZONE
TZID:Europe/Bucharest
BEGIN:DAYLIGHT
TZOFFSETFROM:+0200
TZOFFSETTO:+0300
TZNAME:EEST
DTSTART:20220327T010000
END:DAYLIGHT
BEGIN:STANDARD
TZOFFSETFROM:+0300
TZOFFSETTO:+0200
TZNAME:EET
DTSTART:20221030T010000
END:STANDARD
END:VTIMEZONE
BEGIN:VEVENT
DTSTART;TZID=Europe/Bucharest:20221010T090000
DTEND;TZID=Europe/Bucharest:20221014T170000
DTSTAMP:20260423T133936
CREATED:20220713T091350Z
LAST-MODIFIED:20220713T091414Z
UID:5533-1665392400-1665766800@itadviser.ro
SUMMARY:55234A Microsoft Sharepoint Site Collections and Site Owner Administration
DESCRIPTION:Acest curs de cinci zile este destinat utilizatorilor  și profesioniștilor IT care au sarcina de a lucra în mediul SharePoint și de a desfășura colectarea și administrarea site-urilor. Acest curs va oferi o instruire mai profundă și concentrată asupra abilităților importante și populare necesare pentru a face colectarea site-urilor SharePoint și administrarea site-ului cu SharePoint implementat on-premise\, în Microsoft 365 (SharePoint Online) sau o implementare hibridă (conectat la nivel local).
URL:https://itadviser.ro/events/55234a-microsoft-sharepoint-site-collections-and-site-owner-administration/
LOCATION:Online
CATEGORIES:Cursuri Octombrie 2022
ORGANIZER;CN="ITAdviser":MAILTO:office@itadviser.ro
END:VEVENT
END:VCALENDAR