BEGIN:VCALENDAR
VERSION:2.0
PRODID:-//ITAdviser - ECPv5.5.0.1//NONSGML v1.0//EN
CALSCALE:GREGORIAN
METHOD:PUBLISH
X-WR-CALNAME:ITAdviser
X-ORIGINAL-URL:https://itadviser.ro
X-WR-CALDESC:Evenimente pentru ITAdviser
BEGIN:VTIMEZONE
TZID:Europe/Bucharest
BEGIN:DAYLIGHT
TZOFFSETFROM:+0200
TZOFFSETTO:+0300
TZNAME:EEST
DTSTART:20260329T010000
END:DAYLIGHT
BEGIN:STANDARD
TZOFFSETFROM:+0300
TZOFFSETTO:+0200
TZNAME:EET
DTSTART:20261025T010000
END:STANDARD
END:VTIMEZONE
BEGIN:VEVENT
DTSTART;TZID=Europe/Bucharest:20260302T093000
DTEND;TZID=Europe/Bucharest:20260304T173000
DTSTAMP:20260421T115632
CREATED:20210104T190630Z
LAST-MODIFIED:20260205T111221Z
UID:5241-1772443800-1772645400@itadviser.ro
SUMMARY:20779B Analyzing Data with Excel
DESCRIPTION:In cadrul acestui curs veti explora diverse tehnici de analiza a datelor folosind Microsoft Excel. \nProfilul publicului \nAcest curs este destinat atat profesionistilor IT fara experiență în analiza datelor cat si dezvoltatorilor de rapoarte SQL Server\, interesați de metode alternative de prezentare a datelor. \nLa finalizarea cursului \nDupă finalizarea acestui curs\, veti sti sa: \nExtindeți un tablou de bord clasic Excel.\nExtindeți un model de date Excel.\nPreformatați și importați un fișier .CSV.\nImportați date dintr-o bază de date SQL Server\nImportați datele dintr-un raport.\nCreați măsuri folosind funcții avansate DAX.\nCreați vizualizări de date în Excel.\nCreați un tablou de bord Power BI folosind Excel.
URL:https://itadviser.ro/events/20779b-analyzing-data-with-excel-2/
LOCATION:Online
CATEGORIES:Cursuri Martie 2026
ORGANIZER;CN="ITAdviser":MAILTO:office@itadviser.ro
END:VEVENT
END:VCALENDAR